BEGIN:VCALENDAR
VERSION:2.0
PRODID:-//Proclaim FM 102.3 - ECPv6.15.20//NONSGML v1.0//EN
CALSCALE:GREGORIAN
METHOD:PUBLISH
X-WR-CALNAME:Proclaim FM 102.3
X-ORIGINAL-URL:https://proclaimfm.com
X-WR-CALDESC:Events for Proclaim FM 102.3
REFRESH-INTERVAL;VALUE=DURATION:PT1H
X-Robots-Tag:noindex
X-PUBLISHED-TTL:PT1H
BEGIN:VTIMEZONE
TZID:America/Halifax
BEGIN:DAYLIGHT
TZOFFSETFROM:-0400
TZOFFSETTO:-0300
TZNAME:ADT
DTSTART:20250309T060000
END:DAYLIGHT
BEGIN:STANDARD
TZOFFSETFROM:-0300
TZOFFSETTO:-0400
TZNAME:AST
DTSTART:20251102T050000
END:STANDARD
BEGIN:DAYLIGHT
TZOFFSETFROM:-0400
TZOFFSETTO:-0300
TZNAME:ADT
DTSTART:20260308T060000
END:DAYLIGHT
BEGIN:STANDARD
TZOFFSETFROM:-0300
TZOFFSETTO:-0400
TZNAME:AST
DTSTART:20261101T050000
END:STANDARD
BEGIN:DAYLIGHT
TZOFFSETFROM:-0400
TZOFFSETTO:-0300
TZNAME:ADT
DTSTART:20270314T060000
END:DAYLIGHT
BEGIN:STANDARD
TZOFFSETFROM:-0300
TZOFFSETTO:-0400
TZNAME:AST
DTSTART:20271107T050000
END:STANDARD
END:VTIMEZONE
BEGIN:VEVENT
DTSTART;TZID=America/Halifax:20260131T200000
DTEND;TZID=America/Halifax:20260131T213000
DTSTAMP:20260422T105821
CREATED:20251222T150923Z
LAST-MODIFIED:20251222T150950Z
UID:315776-1769889600-1769895000@proclaimfm.com
SUMMARY:Christian Anderson Band with special guest Scott DeClaire
DESCRIPTION:The Christian Anderson Band will be in concert with special guest Scott DeClaire\nChristian Anderson is a faith-based singer\, songwriter\, producer\, and drummer from Flint\, Michigan. He is best known for his catchy melodies\, signature falsetto voice\, and engaging crowds with an epic show they never forget! \nIf you’re watching him perform on stage\, you’ll never guess his next move\, as he bounces from the mic to piano to drums to the glockenspiel to a keytar. He’s always sure to leave an audience captivated. \nIn his first year of college\, God called Christian to take the road less traveled and take a leap of faith by pursuing a career in music. \nHe found a passion for using his music to bring hope to the heavy hearted and courage to those who dare to dream. \nSince he was 5\, Christian learned to play the piano and drum set. He started playing at church at the age of 8. In high school\, he was heavily involved in theatre and the arts. \nHis music is heavily influenced by his experience as drum major of his high school marching band\, and being a drummer since childhood. \nInspired by creative geniuses such as George Lucas\, John Williams\, and Hans Zimmer\, Christian started on the path of becoming an artist who now writes\, arranges\, and co-produces all of his own music. \nhttps://www.christianandersonband.com/ \nScott DeClaire Jr. is a Christian songwriter and touring artist who is not afraid to be real and vulnerable in the music he writes. He believes in a God that can handle our struggles even while he wants us to be free of them. \nTickets $20.00 plus $4.79 fee
URL:https://proclaimfm.com/event/christian-anderson-band-with-special-guest-scott-declaire/
LOCATION:20 FRONT STREET MUSIC AND ARTS\, 20 E Front St\, Lake Orion\, MI\, 48362\, United States
END:VEVENT
END:VCALENDAR