BEGIN:VCALENDAR
VERSION:2.0
PRODID:-//Proclaim FM 102.3 - ECPv6.15.20//NONSGML v1.0//EN
CALSCALE:GREGORIAN
METHOD:PUBLISH
X-ORIGINAL-URL:https://proclaimfm.com
X-WR-CALDESC:Events for Proclaim FM 102.3
REFRESH-INTERVAL;VALUE=DURATION:PT1H
X-Robots-Tag:noindex
X-PUBLISHED-TTL:PT1H
BEGIN:VTIMEZONE
TZID:America/Halifax
BEGIN:DAYLIGHT
TZOFFSETFROM:-0400
TZOFFSETTO:-0300
TZNAME:ADT
DTSTART:20250309T060000
END:DAYLIGHT
BEGIN:STANDARD
TZOFFSETFROM:-0300
TZOFFSETTO:-0400
TZNAME:AST
DTSTART:20251102T050000
END:STANDARD
BEGIN:DAYLIGHT
TZOFFSETFROM:-0400
TZOFFSETTO:-0300
TZNAME:ADT
DTSTART:20260308T060000
END:DAYLIGHT
BEGIN:STANDARD
TZOFFSETFROM:-0300
TZOFFSETTO:-0400
TZNAME:AST
DTSTART:20261101T050000
END:STANDARD
BEGIN:DAYLIGHT
TZOFFSETFROM:-0400
TZOFFSETTO:-0300
TZNAME:ADT
DTSTART:20270314T060000
END:DAYLIGHT
BEGIN:STANDARD
TZOFFSETFROM:-0300
TZOFFSETTO:-0400
TZNAME:AST
DTSTART:20271107T050000
END:STANDARD
END:VTIMEZONE
BEGIN:VEVENT
DTSTART;TZID=America/Halifax:20260313T190000
DTEND;TZID=America/Halifax:20260313T210000
DTSTAMP:20260422T060104
CREATED:20260211T143513Z
LAST-MODIFIED:20260211T143513Z
UID:315909-1773428400-1773435600@proclaimfm.com
SUMMARY:The Sisterhood Tour with Leanna Crawford and Riley Clemmons
DESCRIPTION:The Sisterhood Tour with Leanna Crawford and Riley Clemmons will be HERE at Proclaim FM’s Korakas Event Center on Friday\, March 13th!
URL:https://proclaimfm.com/event/the-sisterhood-tour-with-leanna-crawford-and-riley-clemmons/
LOCATION:Proclaim FM’s Korakas Event Center\, 7112 Angola Rd\, Holland\, OH\, 43528\, United States
CATEGORIES:Concert
END:VEVENT
BEGIN:VEVENT
DTSTART;TZID=America/Halifax:20260319T190000
DTEND;TZID=America/Halifax:20260319T220000
DTSTAMP:20260422T060104
CREATED:20260211T143656Z
LAST-MODIFIED:20260211T143656Z
UID:315912-1773946800-1773957600@proclaimfm.com
SUMMARY:MercyMe in Concert
DESCRIPTION:The Wonder and Awe Tour with MercyMe\, Big Daddy Weave\, Tim Timmons\, & Sam Wesley is coming to the Huntington Center on March 19 at 7:00pm
URL:https://proclaimfm.com/event/mercyme-in-concert/
LOCATION:Huntington Center\, 500 Jefferson Ave\, Toledo\, OH\, 43604\, United States
CATEGORIES:Concert
END:VEVENT
BEGIN:VEVENT
DTSTART;TZID=America/Halifax:20260327T190000
DTEND;TZID=America/Halifax:20260327T220000
DTSTAMP:20260422T060104
CREATED:20260211T143909Z
LAST-MODIFIED:20260211T143909Z
UID:315915-1774638000-1774648800@proclaimfm.com
SUMMARY:WinterJam
DESCRIPTION:Winter jam is coming!! \nThe best place to see some of your favorite artists all under one roof! \nThis years line up is amazing! \nChris Tomlin\, Matthew West\, Katy Nicole\, Emerson Day\, Hulvey\, Disciple\, and Newsong! \nComing close to us in Cleveland (Wolstein Center) on March 27th and in Ypsilanti (George Gervin GameAbove Center) on March 29th \nTickets are $15 at the door!
URL:https://proclaimfm.com/event/winterjam/
LOCATION:Wolstein Center\, 2000 Prospect Ave E\, Cleveland\, OH\, 44115\, United States
CATEGORIES:Concert
END:VEVENT
BEGIN:VEVENT
DTSTART;TZID=America/Halifax:20260329T190000
DTEND;TZID=America/Halifax:20260329T220000
DTSTAMP:20260422T060104
CREATED:20260211T144143Z
LAST-MODIFIED:20260211T144143Z
UID:315918-1774810800-1774821600@proclaimfm.com
SUMMARY:WinterJam
DESCRIPTION:Winter jam is coming!! \nThe best place to see some of your favorite artists all under one roof! \nThis years line up is amazing! \nChris Tomlin\, Matthew West\, Katy Nicole\, Emerson Day\, Hulvey\, Disciple\, and Newsong! \nComing close to us in Cleveland (Wolstein Center) on March 27th and in Ypsilanti (George Gervin GameAbove Center) on March 29th \nTickets are $15 at the door!
URL:https://proclaimfm.com/event/winterjam-2/
LOCATION:George Gervin GameAbove Center\, 799 N Hewitt Rd\, Ypsilanti\, MI\, 48197\, United States
CATEGORIES:Concert
END:VEVENT
END:VCALENDAR