BEGIN:VCALENDAR
VERSION:2.0
PRODID:-//Proclaim FM 102.3 - ECPv6.15.20//NONSGML v1.0//EN
CALSCALE:GREGORIAN
METHOD:PUBLISH
X-ORIGINAL-URL:https://proclaimfm.com
X-WR-CALDESC:Events for Proclaim FM 102.3
REFRESH-INTERVAL;VALUE=DURATION:PT1H
X-Robots-Tag:noindex
X-PUBLISHED-TTL:PT1H
BEGIN:VTIMEZONE
TZID:America/Halifax
BEGIN:DAYLIGHT
TZOFFSETFROM:-0400
TZOFFSETTO:-0300
TZNAME:ADT
DTSTART:20250309T060000
END:DAYLIGHT
BEGIN:STANDARD
TZOFFSETFROM:-0300
TZOFFSETTO:-0400
TZNAME:AST
DTSTART:20251102T050000
END:STANDARD
BEGIN:DAYLIGHT
TZOFFSETFROM:-0400
TZOFFSETTO:-0300
TZNAME:ADT
DTSTART:20260308T060000
END:DAYLIGHT
BEGIN:STANDARD
TZOFFSETFROM:-0300
TZOFFSETTO:-0400
TZNAME:AST
DTSTART:20261101T050000
END:STANDARD
BEGIN:DAYLIGHT
TZOFFSETFROM:-0400
TZOFFSETTO:-0300
TZNAME:ADT
DTSTART:20270314T060000
END:DAYLIGHT
BEGIN:STANDARD
TZOFFSETFROM:-0300
TZOFFSETTO:-0400
TZNAME:AST
DTSTART:20271107T050000
END:STANDARD
END:VTIMEZONE
BEGIN:VEVENT
DTSTART;TZID=America/Halifax:20260321T083000
DTEND;TZID=America/Halifax:20260321T153000
DTSTAMP:20260420T035731
CREATED:20260128T162636Z
LAST-MODIFIED:20260128T162636Z
UID:315877-1774081800-1774107000@proclaimfm.com
SUMMARY:GREG KOUKL ONE DAY CONFERENCE
DESCRIPTION:Monroe Missionary Baptist Church invites you to a one-day conference\, “Reasons to Hope—for me\, for you\, for the world”. Featuring special guest speaker and Christian apologist\, Greg Koukl\, from Stand To Reason. Join us Saturday\, March 21st from 8:30 am-3:30 pm. The cost is $30.00 per person (lunch included). Register online today at mmbconline.org.
URL:https://proclaimfm.com/event/greg-koukl-one-day-conference/
LOCATION:Monroe Missionary Baptist Church\, 14260 Dixie Highway\, Monroe\, MI\, 48161
CATEGORIES:Church
END:VEVENT
BEGIN:VEVENT
DTSTART;TZID=America/Halifax:20260321T090000
DTEND;TZID=America/Halifax:20260321T150000
DTSTAMP:20260420T035731
CREATED:20260204T144610Z
LAST-MODIFIED:20260204T144610Z
UID:315884-1774083600-1774105200@proclaimfm.com
SUMMARY:Craft Show & Bake Sale
DESCRIPTION:Craft Show & Bake Sale\, Bethany Community Church\, 2740 Nadeau Rd.\, Monroe\, MI 48162 Lunch will be available for purchase. For more information or to rent table space ($30 for 8′ table) please call 734-289-1160 or email bethanyconnect@yahoo.com.
URL:https://proclaimfm.com/event/craft-show-bake-sale/
LOCATION:Bethany Community Church\, 2740 Nadeau Rd.\, Monroe\, MI\, 48162\, United States
CATEGORIES:Church,Community
END:VEVENT
END:VCALENDAR