BEGIN:VCALENDAR
VERSION:2.0
PRODID:-//Proclaim FM 102.3 - ECPv6.15.20//NONSGML v1.0//EN
CALSCALE:GREGORIAN
METHOD:PUBLISH
X-ORIGINAL-URL:https://proclaimfm.com
X-WR-CALDESC:Events for Proclaim FM 102.3
REFRESH-INTERVAL;VALUE=DURATION:PT1H
X-Robots-Tag:noindex
X-PUBLISHED-TTL:PT1H
BEGIN:VTIMEZONE
TZID:America/Halifax
BEGIN:DAYLIGHT
TZOFFSETFROM:-0400
TZOFFSETTO:-0300
TZNAME:ADT
DTSTART:20250309T060000
END:DAYLIGHT
BEGIN:STANDARD
TZOFFSETFROM:-0300
TZOFFSETTO:-0400
TZNAME:AST
DTSTART:20251102T050000
END:STANDARD
BEGIN:DAYLIGHT
TZOFFSETFROM:-0400
TZOFFSETTO:-0300
TZNAME:ADT
DTSTART:20260308T060000
END:DAYLIGHT
BEGIN:STANDARD
TZOFFSETFROM:-0300
TZOFFSETTO:-0400
TZNAME:AST
DTSTART:20261101T050000
END:STANDARD
BEGIN:DAYLIGHT
TZOFFSETFROM:-0400
TZOFFSETTO:-0300
TZNAME:ADT
DTSTART:20270314T060000
END:DAYLIGHT
BEGIN:STANDARD
TZOFFSETFROM:-0300
TZOFFSETTO:-0400
TZNAME:AST
DTSTART:20271107T050000
END:STANDARD
END:VTIMEZONE
BEGIN:VEVENT
DTSTART;TZID=America/Halifax:20260320T110000
DTEND;TZID=America/Halifax:20260320T170000
DTSTAMP:20260420T035744
CREATED:20260211T142635Z
LAST-MODIFIED:20260211T142635Z
UID:315900-1774004400-1774026000@proclaimfm.com
SUMMARY:Red Cross Blood Drive
DESCRIPTION:Save a Life! Give Blood! \nProclaim FM’s next Red Cross Blood Drive is Friday\, March 20th from 11-5pm at Proclaim FM’s Korakas Event Center. \nSchedule your appointment today! \nGo to Proclaimfm.com and click on the Red Cross banner Or call 1-800-Red Cross
URL:https://proclaimfm.com/event/red-cross-blood-drive/
LOCATION:Proclaim FM’s Korakas Event Center\, 7112 Angola Rd\, Holland\, OH\, 43528\, United States
CATEGORIES:Community
END:VEVENT
END:VCALENDAR